BEGIN:VCALENDAR
VERSION:2.0
PRODID:-//Umiña Tenis club - ECPv6.5.1.5//NONSGML v1.0//EN
CALSCALE:GREGORIAN
METHOD:PUBLISH
X-WR-CALNAME:Umiña Tenis club
X-ORIGINAL-URL:https://uminatenisclub.com
X-WR-CALDESC:Eventos para Umiña Tenis club
REFRESH-INTERVAL;VALUE=DURATION:PT1H
X-Robots-Tag:noindex
X-PUBLISHED-TTL:PT1H
BEGIN:VTIMEZONE
TZID:America/New_York
BEGIN:DAYLIGHT
TZOFFSETFROM:-0500
TZOFFSETTO:-0400
TZNAME:EDT
DTSTART:20210314T070000
END:DAYLIGHT
BEGIN:STANDARD
TZOFFSETFROM:-0400
TZOFFSETTO:-0500
TZNAME:EST
DTSTART:20211107T060000
END:STANDARD
END:VTIMEZONE
BEGIN:VEVENT
DTSTART;TZID=America/New_York:20210302T080000
DTEND;TZID=America/New_York:20210312T170000
DTSTAMP:20260423T153631
CREATED:20211007T213613Z
LAST-MODIFIED:20211007T213737Z
UID:3707-1614672000-1615568400@uminatenisclub.com
SUMMARY:Primer Ranking Interno
DESCRIPTION:Nuestros socios del Club fueron participe de este Primer Ranking Interno en las dos modalidades Sinlges y Dobles\, realizado del 2 al 12 de marzo.
URL:https://uminatenisclub.com/event/primer-ranking-interno/
ATTACH;FMTTYPE=image/jpeg:https://uminatenisclub.com/wp-content/uploads/2021/10/umina-tenis-club-manta-3.jpg
END:VEVENT
END:VCALENDAR